BEGIN:VCALENDAR
VERSION:2.0
PRODID:-//Kaarinan Kehitys Oy - ECPv6.15.20//NONSGML v1.0//EN
CALSCALE:GREGORIAN
METHOD:PUBLISH
X-WR-CALNAME:Kaarinan Kehitys Oy
X-ORIGINAL-URL:https://kaarinankehitys.fi
X-WR-CALDESC:Tapahtumat Kaarinan Kehitys Oy
REFRESH-INTERVAL;VALUE=DURATION:PT1H
X-Robots-Tag:noindex
X-PUBLISHED-TTL:PT1H
BEGIN:VTIMEZONE
TZID:Europe/Helsinki
BEGIN:DAYLIGHT
TZOFFSETFROM:+0200
TZOFFSETTO:+0300
TZNAME:EEST
DTSTART:20250330T010000
END:DAYLIGHT
BEGIN:STANDARD
TZOFFSETFROM:+0300
TZOFFSETTO:+0200
TZNAME:EET
DTSTART:20251026T010000
END:STANDARD
BEGIN:DAYLIGHT
TZOFFSETFROM:+0200
TZOFFSETTO:+0300
TZNAME:EEST
DTSTART:20260329T010000
END:DAYLIGHT
BEGIN:STANDARD
TZOFFSETFROM:+0300
TZOFFSETTO:+0200
TZNAME:EET
DTSTART:20261025T010000
END:STANDARD
BEGIN:DAYLIGHT
TZOFFSETFROM:+0200
TZOFFSETTO:+0300
TZNAME:EEST
DTSTART:20270328T010000
END:DAYLIGHT
BEGIN:STANDARD
TZOFFSETFROM:+0300
TZOFFSETTO:+0200
TZNAME:EET
DTSTART:20271031T010000
END:STANDARD
END:VTIMEZONE
BEGIN:VEVENT
DTSTART;TZID=Europe/Helsinki:20260126T120000
DTEND;TZID=Europe/Helsinki:20260126T150000
DTSTAMP:20260420T195514
CREATED:20260112T120753Z
LAST-MODIFIED:20260112T121531Z
UID:4024-1769428800-1769439600@kaarinankehitys.fi
SUMMARY:DataHub-työpaja 26.1. – tee matkailutuotteistasi näkyviä
DESCRIPTION:DataHub-työpaja – tee matkailutuotteistasi näkyviä \nMilloin? Maanantai 26.1.2026 klo. 12-15\nMissä? Kaarinan elinvoimakeskus\, Coworking-tila\, Oskarinkatu 4\, 20780 Kaarina\nKenelle? Työpaja sopii sekä niille\, joilla ei vielä ole tuotteita DataHubissa\, että niille\, jotka haluavat parantaa olemassaolevien tuotteidensa laatua. \nTyöpajaan mahtuu max. 8 henkilöä. Ilmoittaudu pikaisesti osoitteessa: https://www.lyyti.in/DataHub_klinikka_Kaarina_3239 \nVisit Finlandin DataHub on matkailun keskeinen tietopankki\, jonka kautta matkailutuotteet ja -palvelut välittyvät eteenpäin lukuisiin kansallisiin ja kansainvälisiin kanaviin. Mutta miksi DataHubia kannattaa käyttää – ja millainen tuotekuvaus todella toimii? Tässä käytännönläheisessä DataHub-työpajassa käymme ensin lyhyesti läpi perusteet jonka jälkeen siirrytään suoraan käytäntöön (eli ota oma tietokone mukaan!). \nTyöpajassa: \n\nopit luomaan selkeitä\, houkuttelevia ja jakelukelpoisia tuotteita Visit Finlandin DataHubiin\nsaat vinkkejä tuotekuvausten\, otsikoinnin ja sisältöjen parantamiseen\nvoit kehittää jo olemassa olevia tuotteita tai luoda ensimmäiset tuotteesi DataHubiin\nsaat henkilökohtaista apua työn edetessä\nvoit saada apua käännösten kanssa\n\nTavoitteena on\, että lähdet tilaisuudesta paremmalla näkyvyydellä DataHubissa ja sen myötä muissa jakelukanavissa kuten esim. Visit Finlandin sivuilla ja saaristonrengastie.fi-sivulla. Sen lisäksi luot myös laadukkaan sisältöpohjan tuotteellesi tai tuotteillesi\, joka toimii omilla verkkosivuilla\, muissa jakelu- ja myyntikanavissa sekä markkinoinnissa. Kerran hyvin tehty työ auttaa sinua säästämään aikaa jatkossa\, kun esittelet yritystäsi ja matkailutuotteitasi. \nLisätiedot: \nAnna Gröning\nanna.groning@pargas.fi\n+358 (0)40 548 9987 \nSakkunnig inom digital utveckling | Digitaalisen kehityksen asiantuntija | Digital development specialist\nCoast and Archipelago TravelTech Boost 2024-2027 – Skärgårdsstaden Pargas | Saaristokaupunki Parainen | Archipelago City of Pargas\, Finland \n \nRitva Lindström\nyritysasiamies/työllisyyskoordinaattori\nKaarinan Kehitys Oy\n050 359 3615\nritva.lindstrom@kaarina.fi \n 
URL:https://kaarinankehitys.fi/event/datahub-tyopaja-26-1-tee-matkailutuotteistasi-nakyvia
LOCATION:Elinvoima- ja työllisyyspalvelukeskus\, Oskarinkatu 4\, Kaarina\, 20780\, Finland
ATTACH;FMTTYPE=image/png:https://kaarinankehitys.fi/wp-content/uploads/2026/01/Datahub-tyopaja-26.1.2026.png
END:VEVENT
END:VCALENDAR