BEGIN:VCALENDAR
VERSION:2.0
PRODID:-//Kaarinan Kehitys Oy - ECPv6.15.20//NONSGML v1.0//EN
CALSCALE:GREGORIAN
METHOD:PUBLISH
X-ORIGINAL-URL:https://kaarinankehitys.fi
X-WR-CALDESC:Tapahtumat Kaarinan Kehitys Oy
REFRESH-INTERVAL;VALUE=DURATION:PT1H
X-Robots-Tag:noindex
X-PUBLISHED-TTL:PT1H
BEGIN:VTIMEZONE
TZID:Europe/Helsinki
BEGIN:DAYLIGHT
TZOFFSETFROM:+0200
TZOFFSETTO:+0300
TZNAME:EEST
DTSTART:20250330T010000
END:DAYLIGHT
BEGIN:STANDARD
TZOFFSETFROM:+0300
TZOFFSETTO:+0200
TZNAME:EET
DTSTART:20251026T010000
END:STANDARD
BEGIN:DAYLIGHT
TZOFFSETFROM:+0200
TZOFFSETTO:+0300
TZNAME:EEST
DTSTART:20260329T010000
END:DAYLIGHT
BEGIN:STANDARD
TZOFFSETFROM:+0300
TZOFFSETTO:+0200
TZNAME:EET
DTSTART:20261025T010000
END:STANDARD
BEGIN:DAYLIGHT
TZOFFSETFROM:+0200
TZOFFSETTO:+0300
TZNAME:EEST
DTSTART:20270328T010000
END:DAYLIGHT
BEGIN:STANDARD
TZOFFSETFROM:+0300
TZOFFSETTO:+0200
TZNAME:EET
DTSTART:20271031T010000
END:STANDARD
END:VTIMEZONE
BEGIN:VEVENT
DTSTART;TZID=Europe/Helsinki:20260224T160000
DTEND;TZID=Europe/Helsinki:20260224T171500
DTSTAMP:20260420T185557
CREATED:20260123T081021Z
LAST-MODIFIED:20260209T131825Z
UID:4044-1771948800-1771953300@kaarinankehitys.fi
SUMMARY:Yrittäjien lajikokeilut: Kehonhuoltoa Relaxionissa 24.2.2026
DESCRIPTION:Yrittäjien liikuntalajikokeilut jatkuvat! \nRelaxionin fysioterapeutti Jouni ohjaa kaarinalaisille yrittäjille kehonhuoltotunnin. \n\nKehonhuoltotunti kaarinalaisille yrittäjille\nTi 24.2. klo 16-17:15\nRelaxion Kaarina\, Pyhän Katariinantie 11\, Kaarina\nIlmoittaudu tästä 16.2. mennessä. Minimi 5 osallistujaa\, maksimi 17. Tunti on osallistujille maksuton\n\nKlo 16:00 yrityksen esittely\, tarjolla proteiinijuoma tms.\nKlo 16:15 – 17:15 Kehonhuolto. \nTervetuloa!
URL:https://kaarinankehitys.fi/event/yrittajien-lajikokeilut-kehonhuoltoa-relaxionissa-24-2-2026
ATTACH;FMTTYPE=image/png:https://kaarinankehitys.fi/wp-content/uploads/2026/01/Lajikokeilut-Kehonhuolto-Relaxionissa-24.2.2026.png
ORGANIZER;CN="Kaarinan Kehitys Oy":MAILTO:maria.haapanen@kaarina.fi
END:VEVENT
END:VCALENDAR