BEGIN:VCALENDAR
VERSION:2.0
PRODID:-//Kaarinan Kehitys Oy - ECPv6.15.20//NONSGML v1.0//EN
CALSCALE:GREGORIAN
METHOD:PUBLISH
X-ORIGINAL-URL:https://kaarinankehitys.fi
X-WR-CALDESC:Tapahtumat Kaarinan Kehitys Oy
REFRESH-INTERVAL;VALUE=DURATION:PT1H
X-Robots-Tag:noindex
X-PUBLISHED-TTL:PT1H
BEGIN:VTIMEZONE
TZID:Europe/Helsinki
BEGIN:DAYLIGHT
TZOFFSETFROM:+0200
TZOFFSETTO:+0300
TZNAME:EEST
DTSTART:20250330T010000
END:DAYLIGHT
BEGIN:STANDARD
TZOFFSETFROM:+0300
TZOFFSETTO:+0200
TZNAME:EET
DTSTART:20251026T010000
END:STANDARD
BEGIN:DAYLIGHT
TZOFFSETFROM:+0200
TZOFFSETTO:+0300
TZNAME:EEST
DTSTART:20260329T010000
END:DAYLIGHT
BEGIN:STANDARD
TZOFFSETFROM:+0300
TZOFFSETTO:+0200
TZNAME:EET
DTSTART:20261025T010000
END:STANDARD
BEGIN:DAYLIGHT
TZOFFSETFROM:+0200
TZOFFSETTO:+0300
TZNAME:EEST
DTSTART:20270328T010000
END:DAYLIGHT
BEGIN:STANDARD
TZOFFSETFROM:+0300
TZOFFSETTO:+0200
TZNAME:EET
DTSTART:20271031T010000
END:STANDARD
END:VTIMEZONE
BEGIN:VEVENT
DTSTART;TZID=Europe/Helsinki:20260310T130000
DTEND;TZID=Europe/Helsinki:20260310T150000
DTSTAMP:20260420T185619
CREATED:20260115T115335Z
LAST-MODIFIED:20260224T100323Z
UID:4032-1773147600-1773154800@kaarinankehitys.fi
SUMMARY:Seudulliset Rekrymessut 10.3.2026 - ilmoittaudu näytteilleasettajaksi
DESCRIPTION:Rekrymessut 10.3.2026 näytteilleasettajatTervetuloa rekrymessuille Kaarinaan! \n\nTi 10.3.2026 klo 13-15\nKaarina-talo\, Lautakunnankatu 1\, Kaarina\n\nMessut järjestävät yhteistyössä Kaarina\, Kemiönsaari\, Paimio\, Parainen ja Sauvo. \nKatso jo ilmoittautuneet näytteilleasettajat tästä. \nMiksi tulla messuille? \n>> työpaikkoja\n>> työntekijöitä\n>> koulutuksia \nIlmoittaudu näytteilleasettajaksi messuille tästä. \nKysyttävää? \nOta yhteys: \nRitva Lindström\nyritysasiamies\, työllisyyskoordinaattori\nKaarinan Kehitys Oy\n050 359 3615\nritva.lindstrom@kaarina.fi
URL:https://kaarinankehitys.fi/event/seudulliset-rekrymessut-10-3-2026-ilmoittaudu-naytteilleasettajaksi
LOCATION:Kaarina-talo\, Lautakunnankatu 1\, Kaarina\, 20780\, Suomi
ATTACH;FMTTYPE=image/png:https://kaarinankehitys.fi/wp-content/uploads/2026/01/KUTSU-Rekrymessuille-10.3.2026-Tapahtumakalenteri.png
END:VEVENT
END:VCALENDAR